BEGIN:VCALENDAR
VERSION:2.0
PRODID:-//Graine de Courage, Sourire pour Parkinson - ECPv6.15.20//NONSGML v1.0//EN
CALSCALE:GREGORIAN
METHOD:PUBLISH
X-ORIGINAL-URL:https://grainedecourage.com
X-WR-CALDESC:Évènements pour Graine de Courage, Sourire pour Parkinson
REFRESH-INTERVAL;VALUE=DURATION:PT1H
X-Robots-Tag:noindex
X-PUBLISHED-TTL:PT1H
BEGIN:VTIMEZONE
TZID:Europe/Paris
BEGIN:DAYLIGHT
TZOFFSETFROM:+0100
TZOFFSETTO:+0200
TZNAME:CEST
DTSTART:20220327T010000
END:DAYLIGHT
BEGIN:STANDARD
TZOFFSETFROM:+0200
TZOFFSETTO:+0100
TZNAME:CET
DTSTART:20221030T010000
END:STANDARD
BEGIN:DAYLIGHT
TZOFFSETFROM:+0100
TZOFFSETTO:+0200
TZNAME:CEST
DTSTART:20230326T010000
END:DAYLIGHT
BEGIN:STANDARD
TZOFFSETFROM:+0200
TZOFFSETTO:+0100
TZNAME:CET
DTSTART:20231029T010000
END:STANDARD
BEGIN:DAYLIGHT
TZOFFSETFROM:+0100
TZOFFSETTO:+0200
TZNAME:CEST
DTSTART:20240331T010000
END:DAYLIGHT
BEGIN:STANDARD
TZOFFSETFROM:+0200
TZOFFSETTO:+0100
TZNAME:CET
DTSTART:20241027T010000
END:STANDARD
END:VTIMEZONE
BEGIN:VEVENT
DTSTART;TZID=Europe/Paris:20230707T100000
DTEND;TZID=Europe/Paris:20230707T120000
DTSTAMP:20260424T185502
CREATED:20230405T081143Z
LAST-MODIFIED:20230405T091244Z
UID:3041-1688724000-1688731200@grainedecourage.com
SUMMARY:PR Redon - Juillet 2023
DESCRIPTION:Pour les adhérents\, les points-rencontre sont l’occasion de se retrouver\, de créer des liens et de passer des moments conviviaux.
URL:https://grainedecourage.com/event/pr-redon-juillet-2023/
LOCATION:CLIC Redon Agglomération – Redon\, 3 Rue Charles Sillard\, Redon\, 35600\, France
CATEGORIES:PR de Redon
ATTACH;FMTTYPE=image/jpeg:https://grainedecourage.com/wp-content/uploads/2023/03/Redon1.jpg
END:VEVENT
BEGIN:VEVENT
DTSTART;TZID=Europe/Paris:20230722T120000
DTEND;TZID=Europe/Paris:20230722T170000
DTSTAMP:20260424T185502
CREATED:20230724T141251Z
LAST-MODIFIED:20230824T131801Z
UID:4213-1690027200-1690045200@grainedecourage.com
SUMMARY:Rencontre de fin d'année à Bain-sur-Oust le 22 juillet 2023
DESCRIPTION:En ce samedi 22 juillet\, rendez-vous était pris à Bain-sur-oust avec les habitués du point-rencontre de Redon\, sur l’initiative de Marie-Françoise et de Marie-Jo.Nous nous sommes donc tous retrouvés à la Paillotte pour un moment de partage convivial autour d’un verre pour l’apéritif puis devant un bon déjeuner. Ce fut l’occasion de rencontrer les conjoints et de faire plus ample connaissance en toute décontraction.Nous avons été nombreux à choisir la verrine des Pies pour clôturer notre repas. \nAvant de quitter ce lieu de toute beauté malgré un temps un peu couvert\, nous avons pris quelques photographies dans la bonne humeur pour figer le moment. \nLa rencontre a pris fin quelques heures plus tard autour d’un café chez Marie-Françoise et Yannick à Redon. Nous avons d’ores et déjà pris rendez-vous pour l’année prochaine\, probablement du côté de Guipry-Messac. \nMerci à Marie-Jo\, Marie-Françoise et Yannick\, Loïc et Marie-Renée\, Gilbert\, Jean-Marie et Annick. \n			\n			\n				\n				\n				\n				\n				\n				\n				\n				\n				\n				\n			\n				\n				\n				\n				\n				La verrine des pies
URL:https://grainedecourage.com/event/rencontre-de-fin-dannee-a-bain-sur-oust/
CATEGORIES:Convivialité et partage,PR de Redon,Vie de l'association
ATTACH;FMTTYPE=image/jpeg:https://grainedecourage.com/wp-content/uploads/2023/07/La-Paillote-2-scaled.jpg
END:VEVENT
END:VCALENDAR