BEGIN:VCALENDAR
VERSION:2.0
PRODID:-//Graine de Courage, Sourire pour Parkinson - ECPv6.15.20//NONSGML v1.0//EN
CALSCALE:GREGORIAN
METHOD:PUBLISH
X-WR-CALNAME:Graine de Courage, Sourire pour Parkinson
X-ORIGINAL-URL:https://grainedecourage.com
X-WR-CALDESC:Évènements pour Graine de Courage, Sourire pour Parkinson
REFRESH-INTERVAL;VALUE=DURATION:PT1H
X-Robots-Tag:noindex
X-PUBLISHED-TTL:PT1H
BEGIN:VTIMEZONE
TZID:Europe/Paris
BEGIN:DAYLIGHT
TZOFFSETFROM:+0100
TZOFFSETTO:+0200
TZNAME:CEST
DTSTART:20220327T010000
END:DAYLIGHT
BEGIN:STANDARD
TZOFFSETFROM:+0200
TZOFFSETTO:+0100
TZNAME:CET
DTSTART:20221030T010000
END:STANDARD
BEGIN:DAYLIGHT
TZOFFSETFROM:+0100
TZOFFSETTO:+0200
TZNAME:CEST
DTSTART:20230326T010000
END:DAYLIGHT
BEGIN:STANDARD
TZOFFSETFROM:+0200
TZOFFSETTO:+0100
TZNAME:CET
DTSTART:20231029T010000
END:STANDARD
BEGIN:DAYLIGHT
TZOFFSETFROM:+0100
TZOFFSETTO:+0200
TZNAME:CEST
DTSTART:20240331T010000
END:DAYLIGHT
BEGIN:STANDARD
TZOFFSETFROM:+0200
TZOFFSETTO:+0100
TZNAME:CET
DTSTART:20241027T010000
END:STANDARD
END:VTIMEZONE
BEGIN:VEVENT
DTSTART;TZID=Europe/Paris:20230619T190000
DTEND;TZID=Europe/Paris:20230619T220000
DTSTAMP:20260424T211644
CREATED:20230724T144421Z
LAST-MODIFIED:20230724T144421Z
UID:4225-1687201200-1687212000@grainedecourage.com
SUMMARY:Soirée "Accompagnement d'un proche "bien avec moi\, mieux avec toi"
DESCRIPTION:L’APIV était présente au Carré 9 de Redon en ce 19 juin 2023 pour une soirée sur le thème « l’accompagnement d’un proche : bien avec moi\, mieux avec toi ». Douze associations étaient présentes à cette occasion dont l’APIV représentée par Marie-Françoise RADIN\, animatrice du point-rencontre de Redon. Marie-Françoise a accueilli sur son stand plusieurs personnes intéressées par l’association. Elle doit reprendre contact pour communiquer les dates des prochains points-rencontre. Une aide-soignante s’est proposée également de participer à un point rencontre. A 20h\, une conférence animée par Gustave TRISTANI\, sociologue de l’association française des aidants\, avait lieu qui rappelait les chiffres : 12 millions d’aidants en France et 4millions d’aidés\, des chiffres qui parlent d’eux-mêmes.Il est nécessaire d’accompagner sans s’épuiser (30% des aidants meurent avant des aidés et d’avoir du lien social. Certaines structures existent pour préserver les aidants qui sont un véritable relais comme Alpha-répit à Saint Gildas des Bois ou encore l’ASSAD à Redon. Prendre soin de toi est vital : il faut s’accorder du temps\, être attentif à son bien-être\, partager ses difficultés. Il est important de dialoguer et de rester à l’écoute de l’aidé\, de favoriser son autonomie\, d’anticiper l’avenir sans culpabiliser et de ne pas s’isoler.
URL:https://grainedecourage.com/event/soiree-accompagnement-dun-proche-bien-avec-moi-mieux-avec-toi/
CATEGORIES:Évènements externes,PR de Redon
ATTACH;FMTTYPE=image/jpeg:https://grainedecourage.com/wp-content/uploads/2023/07/Accompagnement-dun-proche-carre-9.jpg
END:VEVENT
END:VCALENDAR